BEGIN:VCALENDAR
VERSION:2.0
PRODID:-//PRODATO verbindet - ECPv6.8.3//NONSGML v1.0//EN
CALSCALE:GREGORIAN
METHOD:PUBLISH
X-ORIGINAL-URL:https://relaunch-prodato.sech-dev.de
X-WR-CALDESC:Veranstaltungen für PRODATO verbindet
REFRESH-INTERVAL;VALUE=DURATION:PT1H
X-Robots-Tag:noindex
X-PUBLISHED-TTL:PT1H
BEGIN:VTIMEZONE
TZID:Europe/Berlin
BEGIN:DAYLIGHT
TZOFFSETFROM:+0100
TZOFFSETTO:+0200
TZNAME:CEST
DTSTART:20220327T010000
END:DAYLIGHT
BEGIN:STANDARD
TZOFFSETFROM:+0200
TZOFFSETTO:+0100
TZNAME:CET
DTSTART:20221030T010000
END:STANDARD
END:VTIMEZONE
BEGIN:VEVENT
DTSTART;VALUE=DATE:20221013
DTEND;VALUE=DATE:20221014
DTSTAMP:20260422T153354
CREATED:20241203T134454Z
LAST-MODIFIED:20241203T134454Z
UID:10000069-1665619200-1665705599@relaunch-prodato.sech-dev.de
SUMMARY:Pitch Club Developer Edition #125
DESCRIPTION:PRODATO bei der Pitch Club Developer Edition #125 – Nürnberg\nAm 13. Oktober 2022 werden wir „im Ring“ alles geben um Softwareentwickler*innen und IT-Professionals zu „pitchen“.\nBei den Pitch Club Events wird der Spieß umgedreht: die Unternehmen und Start-Ups müssen sich bei den Kandidaten und Kandidatinnen in kurzen Pitches vorstellen und diese von sich überzeugen. Nach jedem Pitch hat das Publikum die Gelegenheit\, in Q&A-Runden die ersten kritischen Fragen an die Unternehmen zu richten und diese auf Herz und Nieren zu prüfen. Weitere offene Punkte können anschließend bei After-Work-Atmosphäre in 1-on-1 Gesprächen besprochen werden.\nDu bist Softwareentwickler*in oder IT-Professional und auf der Suche nach einer neuen beruflichen Herausforderung? Dann melde dich für dieses einmalige Event an und lerne PRODATO kennen. \nWir freuen uns auf viele spannende Gespräche!
URL:https://relaunch-prodato.sech-dev.de/veranstaltungen/pitch-club-developer-edition-125/
LOCATION:PARKS Nürnberg\, Berliner Platz 9\, Nürnberg\, 90409
ATTACH;FMTTYPE=image/png:https://relaunch-prodato.sech-dev.de/wp-content/uploads/2022/08/125.png
END:VEVENT
END:VCALENDAR